BEGIN:VCALENDAR
VERSION:2.0
PRODID:-//wp-events-plugin.com//7.2.3.1//EN
BEGIN:VEVENT
UID:885@carus-management.de
DTSTART:20210924T000000Z
DTEND:20210926T000000Z
DTSTAMP:20210903T092030Z
URL:https://www.carus-management.de/veranstaltungen/isimed-etc-kurs-8/
SUMMARY:ISIMED - ETC-Kurs
DESCRIPTION:Kurs ist ausgebucht - bzgl. der Warteliste kontaktieren Sie bit
 te Frau Kohl (0351/458-4642)
LOCATION:Universitätsklinikum Dresden\, Fetscherstraße 74\, Dresden\, 013
 07\, Deutschland
X-APPLE-STRUCTURED-LOCATION;VALUE=URI;X-ADDRESS=Fetscherstraße 74\, Dresde
 n\, 01307\, Deutschland;X-APPLE-RADIUS=100;X-TITLE=Universitätsklinikum D
 resden:geo:0,0
END:VEVENT
END:VCALENDAR