BEGIN:VCALENDAR
VERSION:2.0
PRODID:-//wp-events-plugin.com//7.2.3.1//EN
BEGIN:VEVENT
UID:578@carus-management.de
DTSTART;VALUE=DATE:20190405
DTEND;VALUE=DATE:20190407
DTSTAMP:20190409T123044Z
URL:https://www.carus-management.de/veranstaltungen/isimed-epals-kurs/
SUMMARY:ISIMED - EPALS-Kurs
DESCRIPTION:
END:VEVENT
END:VCALENDAR