BEGIN:VCALENDAR
VERSION:2.0
PRODID:-//wp-events-plugin.com//7.2.3.1//EN
BEGIN:VEVENT
UID:887@carus-management.de
DTSTART:20211106T000000Z
DTEND:20211107T000000Z
DTSTAMP:20210903T092230Z
URL:https://www.carus-management.de/veranstaltungen/isimed-epals-kurs-3/
SUMMARY:ISIMED - EPALS-Kurs
DESCRIPTION:Kurs ist ausgebucht - bzgl. der Warteliste kontaktieren Sie bit
 te Frau Kohl (0351/458-4642)
END:VEVENT
END:VCALENDAR