BEGIN:VCALENDAR
VERSION:2.0
PRODID:-//wp-events-plugin.com//7.2.3.1//EN
BEGIN:VEVENT
UID:138@carus-management.de
DTSTART;VALUE=DATE:20170818
DTEND;VALUE=DATE:20170821
DTSTAMP:20180417T105703Z
URL:https://www.carus-management.de/veranstaltungen/isimed-divi-intensivtr
 ansportkurs/
SUMMARY:ISIMED - DIVI-Intensivtransportkurs
DESCRIPTION:
END:VEVENT
END:VCALENDAR