BEGIN:VCALENDAR
VERSION:2.0
PRODID:-//wp-events-plugin.com//7.2.3.1//EN
BEGIN:VEVENT
UID:741@carus-management.de
DTSTART;VALUE=DATE:20201120
DTEND;VALUE=DATE:20201123
DTSTAMP:20201014T112633Z
URL:https://www.carus-management.de/veranstaltungen/isimed-divi-intensivtr
 ansportkurs-5/
SUMMARY:ISIMED - DIVI Intensivtransportkurs - abgesagt
DESCRIPTION:
LOCATION:Universitätsklinikum Dresden\, Fetscherstraße 74\, Dresden\, 013
 07\, Deutschland
X-APPLE-STRUCTURED-LOCATION;VALUE=URI;X-ADDRESS=Fetscherstraße 74\, Dresde
 n\, 01307\, Deutschland;X-APPLE-RADIUS=100;X-TITLE=Universitätsklinikum D
 resden:geo:0,0
END:VEVENT
END:VCALENDAR