BEGIN:VCALENDAR
VERSION:2.0
PRODID:-//wp-events-plugin.com//7.2.3.1//EN
BEGIN:VEVENT
UID:701@carus-management.de
DTSTART;VALUE=DATE:20200313
DTEND;VALUE=DATE:20200315
DTSTAMP:20200513T090510Z
URL:https://www.carus-management.de/veranstaltungen/isimed-crm-kurs-novo-n
 ordisk-5/
SUMMARY:ISIMED - CRM-Kurs Novo Nordisk     -    abgesagt\, wird verschoben!
DESCRIPTION:Die Veranstaltung wird auf den 25.-26.09.20 verschoben!
LOCATION:Universitätsklinikum Dresden\, Fetscherstraße 74\, Dresden\, 013
 07\, Deutschland
X-APPLE-STRUCTURED-LOCATION;VALUE=URI;X-ADDRESS=Fetscherstraße 74\, Dresde
 n\, 01307\, Deutschland;X-APPLE-RADIUS=100;X-TITLE=Universitätsklinikum D
 resden:geo:0,0
END:VEVENT
END:VCALENDAR