BEGIN:VCALENDAR
VERSION:2.0
PRODID:-//wp-events-plugin.com//7.2.3.1//EN
BEGIN:VEVENT
UID:1221@carus-management.de
DTSTART:20240919T080000Z
DTEND:20240919T140000Z
DTSTAMP:20240821T162055Z
URL:https://www.carus-management.de/veranstaltungen/hygienesymposium/
SUMMARY:Symposium „Praxis der Krankenhaushygiene“
DESCRIPTION:[fusion_builder_container type="flex" hundred_percent="no" equa
 l_height_columns="no" menu_anchor="" hide_on_mobile="small-visibility\,med
 ium-visibility\,large-visibility" class="" id="" background_color="" backg
 round_image="" background_position="center center" background_repeat="no-r
 epeat" fade="no" background_parallax="none" parallax_speed="0.3" video_mp4
 ="" video_webm="" video_ogv="" video_url="" video_aspect_ratio="16:9" vide
 o_loop="yes" video_mute="yes" overlay_color="" video_preview_image="" bord
 er_color="" border_style="solid" padding_top="" padding_bottom="" padding_
 left="" padding_right=""][fusion_builder_row][fusion_builder_column type="
 1_1" layout="1_1" background_position="left top" background_color="" borde
 r_color="" border_style="solid" border_position="all" spacing="yes" backgr
 ound_image="" background_repeat="no-repeat" padding_top="" padding_right="
 " padding_bottom="" padding_left="" margin_top="0px" margin_bottom="0px" c
 lass="" id="" animation_type="" animation_speed="0.3" animation_direction=
 "left" hide_on_mobile="small-visibility\,medium-visibility\,large-visibili
 ty" center_content="no" last="true" min_height="" hover_type="none" link="
 " border_sizes_top="" border_sizes_bottom="" border_sizes_left="" border_s
 izes_right="" first="true"][fusion_text columns="" column_min_width="" col
 umn_spacing="" rule_style="" rule_size="" rule_color="" hue="" saturation=
 "" lightness="" alpha="" content_alignment_medium="" content_alignment_sma
 ll="" content_alignment="" hide_on_mobile="small-visibility\,medium-visibi
 lity\,large-visibility" sticky_display="normal\,sticky" class="" id="" mar
 gin_top="" margin_right="" margin_bottom="" margin_left="" fusion_font_fam
 ily_text_font="" fusion_font_variant_text_font="" font_size="" line_height
 ="" letter_spacing="" text_transform="" text_color="" animation_type="" an
 imation_direction="left" animation_color="" animation_speed="0.3" animatio
 n_delay="0" animation_offset="" logics=""]\n\nProgrammflyer\n\n[/fusion_te
 xt][fusion_text columns="" column_min_width="" column_spacing="" rule_styl
 e="" rule_size="" rule_color="" hue="" saturation="" lightness="" alpha=""
  content_alignment_medium="" content_alignment_small="" content_alignment=
 "" hide_on_mobile="small-visibility\,medium-visibility\,large-visibility" 
 sticky_display="normal\,sticky" class="" id="" margin_top="" margin_right=
 "" margin_bottom="" margin_left="" fusion_font_family_text_font="" fusion_
 font_variant_text_font="" font_size="" line_height="" letter_spacing="" te
 xt_transform="" text_color="" animation_type="" animation_direction="left"
  animation_color="" animation_speed="0.3" animation_delay="0" animation_of
 fset="" logics=""]\n\nOffenlegung Sponsoren\n\n[/fusion_text][/fusion_buil
 der_column][/fusion_builder_row][/fusion_builder_container]
LOCATION:Universitätsklinikum Dresden\, Fetscherstraße 74\, Dresden\, 013
 07\, Deutschland
X-APPLE-STRUCTURED-LOCATION;VALUE=URI;X-ADDRESS=Fetscherstraße 74\, Dresde
 n\, 01307\, Deutschland;X-APPLE-RADIUS=100;X-TITLE=Universitätsklinikum D
 resden:geo:0,0
END:VEVENT
END:VCALENDAR