BEGIN:VCALENDAR
VERSION:2.0
PRODID:-//wp-events-plugin.com//7.2.3.1//EN
BEGIN:VEVENT
UID:543@carus-management.de
DTSTART;VALUE=DATE:20190728
DTEND;VALUE=DATE:20190803
DTSTAMP:20191022T065339Z
URL:https://www.carus-management.de/veranstaltungen/hno-summer-school-on-h
 uman-olfaction-2/
SUMMARY:HNO - Summer School on Human Olfaction
DESCRIPTION:Programm Summerschool 2019 inkl. Sponsoren\n\nfinales Programm 
 Summerschool 2019
LOCATION:Universitätsklinikum Dresden\, Fetscherstraße 74\, Dresden\, 013
 07\, Deutschland
X-APPLE-STRUCTURED-LOCATION;VALUE=URI;X-ADDRESS=Fetscherstraße 74\, Dresde
 n\, 01307\, Deutschland;X-APPLE-RADIUS=100;X-TITLE=Universitätsklinikum D
 resden:geo:0,0
END:VEVENT
END:VCALENDAR