BEGIN:VCALENDAR
VERSION:2.0
PRODID:-//wp-events-plugin.com//7.2.3.1//EN
BEGIN:VEVENT
UID:400@carus-management.de
DTSTART;VALUE=DATE:20180904
DTEND;VALUE=DATE:20180906
DTSTAMP:20180828T132133Z
URL:https://www.carus-management.de/veranstaltungen/hno-smelltaste10/
SUMMARY:HNO - Smell&Taste10
DESCRIPTION:Offenlegung Sponsoren - Smell &amp\; Taste 10 04.-05.09.18
END:VEVENT
END:VCALENDAR