BEGIN:VCALENDAR
VERSION:2.0
PRODID:-//wp-events-plugin.com//7.2.3.1//EN
BEGIN:VEVENT
UID:979@carus-management.de
DTSTART;VALUE=DATE:20220829
DTEND;VALUE=DATE:20220831
DTSTAMP:20220819T092628Z
URL:https://www.carus-management.de/veranstaltungen/hno-smell-and-taste-14
 /
SUMMARY:HNO - Smell and Taste 14
DESCRIPTION:Weitere Informationen zur Veranstaltung finden Sie unter dem fo
 lgenden Link:\n\nhttps://www.uniklinikum-dresden.de/de/das-klinikum/klinik
 en-polikliniken-institute/hno/forschung/interdisziplinaeres-zentrum-fuer-r
 iechen-und-schmecken/neuigkeiten/kongresse/smell-and-taste-14\n\n&nbsp\;\n
 \nOffenlegung Sponsoren - Smell&amp\;Taste14_29.-30.08.22
LOCATION:Universitätsklinikum Dresden\, Fetscherstraße 74\, Dresden\, 013
 07\, Deutschland
X-APPLE-STRUCTURED-LOCATION;VALUE=URI;X-ADDRESS=Fetscherstraße 74\, Dresde
 n\, 01307\, Deutschland;X-APPLE-RADIUS=100;X-TITLE=Universitätsklinikum D
 resden:geo:0,0
END:VEVENT
END:VCALENDAR