BEGIN:VCALENDAR
VERSION:2.0
PRODID:-//wp-events-plugin.com//7.2.3.1//EN
BEGIN:VEVENT
UID:713@carus-management.de
DTSTART;VALUE=DATE:20200318
DTEND;VALUE=DATE:20200319
DTSTAMP:20200402T091429Z
URL:https://www.carus-management.de/veranstaltungen/hno-niedergelassenen-f
 ortbildung-ausfall/
SUMMARY:HNO - Niedergelassenen-Fortbildung  -  ABGESAGT
DESCRIPTION:Die Veranstaltung wird für den 18.03.20 abgesagt - Ersatztermi
 n folgt.
LOCATION:Universitätsklinikum Dresden\, Fetscherstraße 74\, Dresden\, 013
 07\, Deutschland
X-APPLE-STRUCTURED-LOCATION;VALUE=URI;X-ADDRESS=Fetscherstraße 74\, Dresde
 n\, 01307\, Deutschland;X-APPLE-RADIUS=100;X-TITLE=Universitätsklinikum D
 resden:geo:0,0
END:VEVENT
END:VCALENDAR