BEGIN:VCALENDAR
VERSION:2.0
PRODID:-//wp-events-plugin.com//7.2.3.1//EN
BEGIN:VEVENT
UID:417@carus-management.de
DTSTART;VALUE=DATE:20181107
DTEND;VALUE=DATE:20181108
DTSTAMP:20181030T082921Z
URL:https://www.carus-management.de/veranstaltungen/hno-niedergelassenen-f
 ortbildung-3/
SUMMARY:HNO - Niedergelassenen-Fortbildung "Moderne Hörrehabilitation"
DESCRIPTION:Flyer_Fortbildung_07_11_2018\n\nOffenlegung Sponsoren - NG-FB 0
 7.11.18
LOCATION:Universitätsklinikum Dresden\, Fetscherstraße 74\, Dresden\, 013
 07\, Deutschland
X-APPLE-STRUCTURED-LOCATION;VALUE=URI;X-ADDRESS=Fetscherstraße 74\, Dresde
 n\, 01307\, Deutschland;X-APPLE-RADIUS=100;X-TITLE=Universitätsklinikum D
 resden:geo:0,0
END:VEVENT
END:VCALENDAR