BEGIN:VCALENDAR
VERSION:2.0
PRODID:-//wp-events-plugin.com//7.2.3.1//EN
BEGIN:VEVENT
UID:652@carus-management.de
DTSTART:20200512T220000Z
DTEND:20200514T220000Z
DTSTAMP:20200402T082432Z
URL:https://www.carus-management.de/veranstaltungen/hno-international-mast
 er-course-reconstruction-of-the-middle-ear-i/
SUMMARY:HNO - International master course "Reconstruction of the middle ear
  I - ABGESAGT!
DESCRIPTION:Diese Veranstaltung wird verschoben (findet voraussichtlich in 
 2021 statt)!
LOCATION:Universitätsklinikum Dresden\, Fetscherstraße 74\, Dresden\, 013
 07\, Deutschland
X-APPLE-STRUCTURED-LOCATION;VALUE=URI;X-ADDRESS=Fetscherstraße 74\, Dresde
 n\, 01307\, Deutschland;X-APPLE-RADIUS=100;X-TITLE=Universitätsklinikum D
 resden:geo:0,0
END:VEVENT
END:VCALENDAR