BEGIN:VCALENDAR
VERSION:2.0
PRODID:-//wp-events-plugin.com//7.2.3.1//EN
BEGIN:VEVENT
UID:657@carus-management.de
DTSTART:20201011T000000Z
DTEND:20201013T000000Z
DTSTAMP:20201005T103108Z
URL:https://www.carus-management.de/veranstaltungen/hno-implantatkurs/
SUMMARY:HNO - Implantatkurs  -  abgesagt
DESCRIPTION:Programm Implantatkurs 11.-13.10.20\n\nDiese Veranstaltung wurd
 e abgesagt!
LOCATION:Universitätsklinikum Dresden\, Fetscherstraße 74\, Dresden\, 013
 07\, Deutschland
X-APPLE-STRUCTURED-LOCATION;VALUE=URI;X-ADDRESS=Fetscherstraße 74\, Dresde
 n\, 01307\, Deutschland;X-APPLE-RADIUS=100;X-TITLE=Universitätsklinikum D
 resden:geo:0,0
END:VEVENT
END:VCALENDAR