BEGIN:VCALENDAR
VERSION:2.0
PRODID:-//wp-events-plugin.com//7.2.3.1//EN
BEGIN:VEVENT
UID:900@carus-management.de
DTSTART:20211103T160000Z
DTEND:20211103T200000Z
DTSTAMP:20211102T120446Z
URL:https://www.carus-management.de/veranstaltungen/hno-fortbildung-fuer-n
 iedergelassene-aerzte/
SUMMARY:HNO - Fortbildung für niedergelassene Ärzte "Implantate in der HN
 O - Indikationen und Ergebnisse"
DESCRIPTION:Flyer Fortbildung 03.11.2021\n\nOffenlegung Sponsoren - NG-FB 0
 3.11.21
LOCATION:Universitätsklinikum Dresden\, Fetscherstraße 74\, Dresden\, 013
 07\, Deutschland
X-APPLE-STRUCTURED-LOCATION;VALUE=URI;X-ADDRESS=Fetscherstraße 74\, Dresde
 n\, 01307\, Deutschland;X-APPLE-RADIUS=100;X-TITLE=Universitätsklinikum D
 resden:geo:0,0
END:VEVENT
END:VCALENDAR