BEGIN:VCALENDAR
VERSION:2.0
PRODID:-//wp-events-plugin.com//7.2.3.1//EN
BEGIN:VEVENT
UID:557@carus-management.de
DTSTART:20191106T143000Z
DTEND:20191106T174500Z
DTSTAMP:20191030T074046Z
URL:https://www.carus-management.de/veranstaltungen/hno-fortbildung-fuer-h
 no-aerzte-schmerzen-in-der-hno-heilkunde-ein-interdisziplinaeres-problem/
SUMMARY:HNO - Fortbildung für HNO-Ärzte: Schmerzen in der HNO-Heilkunde -
  ein interdisziplinäres Problem
DESCRIPTION:Flyer_Fortbildung_06_11_2019\n\nOffenlegung Sponsoren - NG-FB 0
 6.11.19
LOCATION:Universitätsklinikum Dresden\, Fetscherstraße 74\, Dresden\, 013
 07\, Deutschland
X-APPLE-STRUCTURED-LOCATION;VALUE=URI;X-ADDRESS=Fetscherstraße 74\, Dresde
 n\, 01307\, Deutschland;X-APPLE-RADIUS=100;X-TITLE=Universitätsklinikum D
 resden:geo:0,0
END:VEVENT
END:VCALENDAR