BEGIN:VCALENDAR
VERSION:2.0
PRODID:-//wp-events-plugin.com//7.2.3.1//EN
BEGIN:VEVENT
UID:548@carus-management.de
DTSTART;VALUE=DATE:20190929
DTEND;VALUE=DATE:20190930
DTSTAMP:20190828T103911Z
URL:https://www.carus-management.de/veranstaltungen/hno-diagnostik-und-the
 rapie-von-riech-und-schmeckstoerungen-mit-und-fuer-patienten/
SUMMARY:HNO - Riech- und Schmeckstörungen - eine Konferenz zusammen mit Be
 troffenen und Ärzten
DESCRIPTION:Programm Riech- und Schmeckstörungen 29.09.19
LOCATION:Universitätsklinikum Dresden\, Fetscherstraße 74\, Dresden\, 013
 07\, Deutschland
X-APPLE-STRUCTURED-LOCATION;VALUE=URI;X-ADDRESS=Fetscherstraße 74\, Dresde
 n\, 01307\, Deutschland;X-APPLE-RADIUS=100;X-TITLE=Universitätsklinikum D
 resden:geo:0,0
END:VEVENT
END:VCALENDAR