BEGIN:VCALENDAR
VERSION:2.0
PRODID:-//wp-events-plugin.com//7.2.3.1//EN
BEGIN:VEVENT
UID:205@carus-management.de
DTSTART:20160113T143000Z
DTEND:20160113T190000Z
DTSTAMP:20180418T082348Z
URL:https://www.carus-management.de/veranstaltungen/hno-aktueller-stand-de
 r-sonografischen-diagnostik-im-kopf-hals-bereich/
SUMMARY:HNO - Aktueller Stand der sonografischen Diagnostik im Kopf-Hals-Be
 reich
DESCRIPTION:Flyer_Fortbildung_13_01_2016
END:VEVENT
END:VCALENDAR