BEGIN:VCALENDAR
VERSION:2.0
PRODID:-//wp-events-plugin.com//7.2.3.1//EN
BEGIN:VEVENT
UID:519@carus-management.de
DTSTART:20190322T100000Z
DTEND:20190323T150000Z
DTSTAMP:20190315T105632Z
URL:https://www.carus-management.de/veranstaltungen/hno-36-grundkurs-aller
 gie-i/
SUMMARY:HNO - 36. Grundkurs Allergie I
DESCRIPTION:Flyer Allergie-Grundkurs 2019\n\nOffenlegung Sponsoren - Allerg
 ie-Grundkurs 22.-23.03.19
LOCATION:Universitätsklinikum Dresden\, Fetscherstraße 74\, Dresden\, 013
 07\, Deutschland
X-APPLE-STRUCTURED-LOCATION;VALUE=URI;X-ADDRESS=Fetscherstraße 74\, Dresde
 n\, 01307\, Deutschland;X-APPLE-RADIUS=100;X-TITLE=Universitätsklinikum D
 resden:geo:0,0
END:VEVENT
END:VCALENDAR