BEGIN:VCALENDAR
VERSION:2.0
PRODID:-//wp-events-plugin.com//7.2.3.1//EN
BEGIN:VEVENT
UID:604@carus-management.de
DTSTART;VALUE=DATE:20190622
DTEND;VALUE=DATE:20190623
DTSTAMP:20190527T134753Z
URL:https://www.carus-management.de/veranstaltungen/herz-und-diabetes-aktu
 ell/
SUMMARY:MK3 - Herz und Diabetes AKTUELL
DESCRIPTION:Flyer - Herz und Diabetes Aktuell 22.06.2019\n\nOffenlegung Spo
 nsoren - MK3 Herz u. Diabetes 2019.pdf
LOCATION:Universitätsklinikum Dresden\, Fetscherstraße 74\, Dresden\, 013
 07\, Deutschland
X-APPLE-STRUCTURED-LOCATION;VALUE=URI;X-ADDRESS=Fetscherstraße 74\, Dresde
 n\, 01307\, Deutschland;X-APPLE-RADIUS=100;X-TITLE=Universitätsklinikum D
 resden:geo:0,0
END:VEVENT
END:VCALENDAR