BEGIN:VCALENDAR
VERSION:2.0
PRODID:-//wp-events-plugin.com//7.2.3.1//EN
BEGIN:VEVENT
UID:1314@carus-management.de
DTSTART:20250521T180000Z
DTEND:20250521T200000Z
DTSTAMP:20250522T110854Z
URL:https://www.carus-management.de/veranstaltungen/hepatologischer-abend-
 6/
SUMMARY:Hepatologischer Abend
DESCRIPTION:&nbsp\;\n\nProgramm:\n\nFly Hep Abend 21.05.2025\n\nOffenlegung
 :\n\nOffenlegung Sponsoren - Hepatologischer Abend am 21.05.25
LOCATION:Universitätsklinikum Dresden\, Fetscherstraße 74\, Dresden\, 013
 07\, Deutschland
X-APPLE-STRUCTURED-LOCATION;VALUE=URI;X-ADDRESS=Fetscherstraße 74\, Dresde
 n\, 01307\, Deutschland;X-APPLE-RADIUS=100;X-TITLE=Universitätsklinikum D
 resden:geo:0,0
END:VEVENT
END:VCALENDAR