BEGIN:VCALENDAR
VERSION:2.0
PRODID:-//wp-events-plugin.com//7.2.3.1//EN
BEGIN:VEVENT
UID:1351@carus-management.de
DTSTART:20250401T190000Z
DTEND:20250401T203000Z
DTSTAMP:20250403T104146Z
URL:https://www.carus-management.de/veranstaltungen/hebammenkurs-einfuehru
 ng-in-das-wissenschaftliche-arbeiten-teil-1/
SUMMARY:Hebammenkurs-Einführung in das wissenschaftliche Arbeiten-Teil 1
DESCRIPTION:
END:VEVENT
END:VCALENDAR