BEGIN:VCALENDAR
VERSION:2.0
PRODID:-//wp-events-plugin.com//7.2.3.1//EN
BEGIN:VEVENT
UID:687@carus-management.de
DTSTART:20200422T150000Z
DTEND:20200422T183000Z
DTSTAMP:20200318T132310Z
URL:https://www.carus-management.de/veranstaltungen/fruehjahrs-tagung-der-
 mk-3-dresdner-stoffwechsel-update/
SUMMARY:FRÜHJAHRS-TAGUNG der MK 3: Dresdner Stoffwechsel Update - ABGESAGT
 !
DESCRIPTION:
END:VEVENT
END:VCALENDAR