BEGIN:VCALENDAR
VERSION:2.0
PRODID:-//wp-events-plugin.com//7.2.3.1//EN
BEGIN:VEVENT
UID:1098@carus-management.de
DTSTART:20230824T150000Z
DTEND:20230824T161500Z
DTSTAMP:20230803T163423Z
URL:https://www.carus-management.de/veranstaltungen/fruehdiagnostik-und-be
 handlung-der-schizophrenie/
SUMMARY:Frühdiagnostik und Behandlung der Schizophrenie
DESCRIPTION:Offenlegung Sponsor - VA 24.08.2023[fusion_builder_container ty
 pe="flex" hundred_percent="no" equal_height_columns="no" menu_anchor="" hi
 de_on_mobile="small-visibility\,medium-visibility\,large-visibility" class
 ="" id="" background_color="" background_image="" background_position="cen
 ter center" background_repeat="no-repeat" fade="no" background_parallax="n
 one" parallax_speed="0.3" video_mp4="" video_webm="" video_ogv="" video_ur
 l="" video_aspect_ratio="16:9" video_loop="yes" video_mute="yes" overlay_c
 olor="" video_preview_image="" border_color="" border_style="solid" paddin
 g_top="" padding_bottom="" padding_left="" padding_right=""][fusion_builde
 r_row][fusion_builder_column type="1_1" layout="1_1" background_position="
 left top" background_color="" border_color="" border_style="solid" border_
 position="all" spacing="yes" background_image="" background_repeat="no-rep
 eat" padding_top="" padding_right="" padding_bottom="" padding_left="" mar
 gin_top="0px" margin_bottom="0px" class="" id="" animation_type="" animati
 on_speed="0.3" animation_direction="left" hide_on_mobile="small-visibility
 \,medium-visibility\,large-visibility" center_content="no" last="true" min
 _height="" hover_type="none" link="" border_sizes_top="" border_sizes_bott
 om="" border_sizes_left="" border_sizes_right="" first="true"][fusion_text
 ]\n\nFrühdiagnostik u. Behandlung der Schizophrenie_24.8.23\n\n[/fusion_t
 ext][/fusion_builder_column][/fusion_builder_row][/fusion_builder_containe
 r]
LOCATION:Universitätsklinikum Dresden\, Fetscherstraße 74\, Dresden\, 013
 07\, Deutschland
X-APPLE-STRUCTURED-LOCATION;VALUE=URI;X-ADDRESS=Fetscherstraße 74\, Dresde
 n\, 01307\, Deutschland;X-APPLE-RADIUS=100;X-TITLE=Universitätsklinikum D
 resden:geo:0,0
END:VEVENT
END:VCALENDAR