BEGIN:VCALENDAR
VERSION:2.0
PRODID:-//wp-events-plugin.com//7.2.3.1//EN
BEGIN:VEVENT
UID:149@carus-management.de
DTSTART:20170906T140000Z
DTEND:20170906T170000Z
DTSTAMP:20180417T111905Z
URL:https://www.carus-management.de/veranstaltungen/fortbildungsreihe-neur
 ologie-neurovaskulaere-erkrankungen/
SUMMARY:Fortbildungsreihe Neurologie "Neurovaskuläre Erkrankungen"
DESCRIPTION:Flyer-FortbildungsreiheNeurologie_06.09.17_final
END:VEVENT
END:VCALENDAR