BEGIN:VCALENDAR
VERSION:2.0
PRODID:-//wp-events-plugin.com//7.2.3.1//EN
BEGIN:VEVENT
UID:1390@carus-management.de
DTSTART:20251029T170000Z
DTEND:20251029T190000Z
DTSTAMP:20251028T083935Z
URL:https://www.carus-management.de/veranstaltungen/fobi/
SUMMARY:Fortbildung "FoBi Neurologie Wintersemester 25/26" - Thema: Alzheim
 er-Krankheiten
DESCRIPTION:Offenlegung - FoBi Neurologie WS 25_26[fusion_builder_container
  type="flex" hundred_percent="no" equal_height_columns="no" menu_anchor=""
  hide_on_mobile="small-visibility\,medium-visibility\,large-visibility" cl
 ass="" id="" background_color="" background_image="" background_position="
 center center" background_repeat="no-repeat" fade="no" background_parallax
 ="none" parallax_speed="0.3" video_mp4="" video_webm="" video_ogv="" video
 _url="" video_aspect_ratio="16:9" video_loop="yes" video_mute="yes" overla
 y_color="" video_preview_image="" border_color="" border_style="solid" pad
 ding_top="" padding_bottom="" padding_left="" padding_right=""][fusion_bui
 lder_row][fusion_builder_column type="1_1" layout="1_1" background_positio
 n="left top" background_color="" border_color="" border_style="solid" bord
 er_position="all" spacing="yes" background_image="" background_repeat="no-
 repeat" padding_top="" padding_right="" padding_bottom="" padding_left="" 
 margin_top="0px" margin_bottom="0px" class="" id="" animation_type="" anim
 ation_speed="0.3" animation_direction="left" hide_on_mobile="small-visibil
 ity\,medium-visibility\,large-visibility" center_content="no" last="true" 
 min_height="" hover_type="none" link="" border_sizes_top="" border_sizes_b
 ottom="" border_sizes_left="" border_sizes_right="" first="true"][fusion_t
 ext]\n\nFlyer FoBi Neurologie WS 25-26 mit Anmelde-Links\n\n[/fusion_text]
 [/fusion_builder_column][/fusion_builder_row][/fusion_builder_container]
LOCATION:Universitätsklinikum Dresden\, Fetscherstraße 74\, Dresden\, 013
 07\, Deutschland
X-APPLE-STRUCTURED-LOCATION;VALUE=URI;X-ADDRESS=Fetscherstraße 74\, Dresde
 n\, 01307\, Deutschland;X-APPLE-RADIUS=100;X-TITLE=Universitätsklinikum D
 resden:geo:0,0
END:VEVENT
END:VCALENDAR