BEGIN:VCALENDAR
VERSION:2.0
PRODID:-//wp-events-plugin.com//7.2.3.1//EN
BEGIN:VEVENT
UID:1175@carus-management.de
DTSTART:20240308T000000Z
DTEND:20240310T000000Z
DTSTAMP:20240205T110453Z
URL:https://www.carus-management.de/veranstaltungen/european-trauma-kurs-e
 tc/
SUMMARY:European Trauma Kurs (ETC)
DESCRIPTION:
LOCATION:Universitätsklinikum Dresden\, Fetscherstraße 74\, Dresden\, 013
 07\, Deutschland
X-APPLE-STRUCTURED-LOCATION;VALUE=URI;X-ADDRESS=Fetscherstraße 74\, Dresde
 n\, 01307\, Deutschland;X-APPLE-RADIUS=100;X-TITLE=Universitätsklinikum D
 resden:geo:0,0
END:VEVENT
END:VCALENDAR