BEGIN:VCALENDAR
VERSION:2.0
PRODID:-//wp-events-plugin.com//7.2.3.1//EN
BEGIN:VEVENT
UID:1389@carus-management.de
DTSTART:20251022T180000Z
DTEND:20251022T211500Z
DTSTAMP:20250911T082638Z
URL:https://www.carus-management.de/veranstaltungen/etablierung-eines-zuwe
 iser-netzwerkes-rheumatologische-fortbildung-von-hausaerzten-qualitaetszir
 kel-praxis-dr-rothe/
SUMMARY:Etablierung eines Zuweiser Netzwerkes - rheumatologische Fortbildun
 g von  Hausärzten (Qualitätszirkel Praxis Dr. Rothe)
DESCRIPTION:Offenlegung der Sponsoren:\n\nOffenlegung Sponsoren - Fortbildu
 ng von Hausärzten Qualitätszirkel Dr. Rothe am 22.10.2025\n\n&nbsp\;
LOCATION:Bergwirtschaft-Wilder Mann Hotel und Restaurant GmbH\, Großenhain
 er Str. 243\, 01129 Dresden\, Deutschland
X-APPLE-STRUCTURED-LOCATION;VALUE=URI;X-ADDRESS=Großenhainer Str. 243\, 01
 129 Dresden\, Deutschland;X-APPLE-RADIUS=100;X-TITLE=Bergwirtschaft-Wilder
  Mann Hotel und Restaurant GmbH:geo:0,0
END:VEVENT
END:VCALENDAR