BEGIN:VCALENDAR
VERSION:2.0
PRODID:-//wp-events-plugin.com//7.2.3.1//EN
BEGIN:VEVENT
UID:962@carus-management.de
DTSTART:20220629T140000Z
DTEND:20220629T173000Z
DTSTAMP:20220607T133637Z
URL:https://www.carus-management.de/veranstaltungen/einsendertreffen-neuge
 borenenscreening-institut-f-klinische-chemie-und-laboratoriumsmedizin-am-u
 niklinikum-dresden/
SUMMARY:Einsendertreffen Neugeborenenscreening (Institut f. Klinische Chemi
 e und Laboratoriumsmedizin am Uniklinikum Dresden)
DESCRIPTION:Einsendertreffen Neugeborenenscreening_060722\n\nOffenlegung Sp
 onsoren\n\n&nbsp\;
LOCATION:Universitätsklinikum Dresden\, Fetscherstraße 74\, Dresden\, 013
 07\, Deutschland
X-APPLE-STRUCTURED-LOCATION;VALUE=URI;X-ADDRESS=Fetscherstraße 74\, Dresde
 n\, 01307\, Deutschland;X-APPLE-RADIUS=100;X-TITLE=Universitätsklinikum D
 resden:geo:0,0
END:VEVENT
END:VCALENDAR