BEGIN:VCALENDAR
VERSION:2.0
PRODID:-//wp-events-plugin.com//7.2.3.1//EN
BEGIN:VEVENT
UID:960@carus-management.de
DTSTART;VALUE=DATE:20220701
DTEND;VALUE=DATE:20220703
DTSTAMP:20220618T172640Z
URL:https://www.carus-management.de/veranstaltungen/einfuehrungskurs-in-di
 e-elektroenzephalographie-2/
SUMMARY:Einführungskurs in die Elektroenzephalographie
DESCRIPTION:EEG-Grundkurs_2022_Einladung_Programm\n\nEEG-Grundkurs 2022 - O
 ffenlegung Sponsoren
END:VEVENT
END:VCALENDAR