BEGIN:VCALENDAR
VERSION:2.0
PRODID:-//wp-events-plugin.com//7.2.3.1//EN
BEGIN:VEVENT
UID:735@carus-management.de
DTSTART:20200715T160000Z
DTEND:20200715T180000Z
DTSTAMP:20200701T105452Z
URL:https://www.carus-management.de/veranstaltungen/eeg-arbeitskreis/
SUMMARY:EEG - Arbeitskreis
DESCRIPTION:Einladung EEG Arbeitskreis 150720
LOCATION:Universitätsklinikum Dresden\, Fetscherstraße 74\, Dresden\, 013
 07\, Deutschland
X-APPLE-STRUCTURED-LOCATION;VALUE=URI;X-ADDRESS=Fetscherstraße 74\, Dresde
 n\, 01307\, Deutschland;X-APPLE-RADIUS=100;X-TITLE=Universitätsklinikum D
 resden:geo:0,0
END:VEVENT
END:VCALENDAR