BEGIN:VCALENDAR
VERSION:2.0
PRODID:-//wp-events-plugin.com//7.2.3.1//EN
BEGIN:VEVENT
UID:956@carus-management.de
DTSTART:20220511T180000Z
DTEND:20220511T200000Z
DTSTAMP:20220503T114213Z
URL:https://www.carus-management.de/veranstaltungen/eeg-arbeitskreis-2/
SUMMARY:EEG Arbeitskreis
DESCRIPTION:Einladung EEG Arbeitskreis 2022\n\nOffenlegung Sponsoren - EEG 
 Arbeitskreis 11.5.22
END:VEVENT
END:VCALENDAR