BEGIN:VCALENDAR
VERSION:2.0
PRODID:-//wp-events-plugin.com//7.2.3.1//EN
BEGIN:VEVENT
UID:1204@carus-management.de
DTSTART:20240907T083000Z
DTEND:20240907T150000Z
DTSTAMP:20240718T075403Z
URL:https://www.carus-management.de/veranstaltungen/dresdner-kolloquium-ne
 uromuskulaere-erkrankungen/
SUMMARY:7. Dresdner Kolloquium Neuromuskuläre Erkrankungen
DESCRIPTION:Flyer-UNMC-Kolloquium_final mit Sponsoren[fusion_builder_contai
 ner type="flex" hundred_percent="no" equal_height_columns="no" menu_anchor
 ="" hide_on_mobile="small-visibility\,medium-visibility\,large-visibility"
  class="" id="" background_color="" background_image="" background_positio
 n="center center" background_repeat="no-repeat" fade="no" background_paral
 lax="none" parallax_speed="0.3" video_mp4="" video_webm="" video_ogv="" vi
 deo_url="" video_aspect_ratio="16:9" video_loop="yes" video_mute="yes" ove
 rlay_color="" video_preview_image="" border_color="" border_style="solid" 
 padding_top="" padding_bottom="" padding_left="" padding_right=""][fusion_
 builder_row][fusion_builder_column type="1_1" layout="1_1" background_posi
 tion="left top" background_color="" border_color="" border_style="solid" b
 order_position="all" spacing="yes" background_image="" background_repeat="
 no-repeat" padding_top="" padding_right="" padding_bottom="" padding_left=
 "" margin_top="0px" margin_bottom="0px" class="" id="" animation_type="" a
 nimation_speed="0.3" animation_direction="left" hide_on_mobile="small-visi
 bility\,medium-visibility\,large-visibility" center_content="no" last="tru
 e" min_height="" hover_type="none" link="" border_sizes_top="" border_size
 s_bottom="" border_sizes_left="" border_sizes_right="" first="true"][fusio
 n_text]\n\nOffenl. Spons. Neuromuskuläre Erkrankungen[/fusion_text][/fusi
 on_builder_column][/fusion_builder_row][/fusion_builder_container][fusion_
 builder_container type="flex" hundred_percent="no" equal_height_columns="n
 o" menu_anchor="" hide_on_mobile="small-visibility\,medium-visibility\,lar
 ge-visibility" class="" id="" background_color="" background_image="" back
 ground_position="center center" background_repeat="no-repeat" fade="no" ba
 ckground_parallax="none" parallax_speed="0.3" video_mp4="" video_webm="" v
 ideo_ogv="" video_url="" video_aspect_ratio="16:9" video_loop="yes" video_
 mute="yes" overlay_color="" video_preview_image="" border_color="" border_
 style="solid" padding_top="" padding_bottom="" padding_left="" padding_rig
 ht=""][fusion_builder_row][fusion_builder_column type="1_1" layout="1_1" b
 ackground_position="left top" background_color="" border_color="" border_s
 tyle="solid" border_position="all" spacing="yes" background_image="" backg
 round_repeat="no-repeat" padding_top="" padding_right="" padding_bottom=""
  padding_left="" margin_top="0px" margin_bottom="0px" class="" id="" anima
 tion_type="" animation_speed="0.3" animation_direction="left" hide_on_mobi
 le="small-visibility\,medium-visibility\,large-visibility" center_content=
 "no" last="true" min_height="" hover_type="none" link="" border_sizes_top=
 "" border_sizes_bottom="" border_sizes_left="" border_sizes_right="" first
 ="true"][fusion_text]\n\nHörsaal Haus 21\n\n[/fusion_text][/fusion_builde
 r_column][/fusion_builder_row][/fusion_builder_container][fusion_builder_c
 ontainer type="flex" hundred_percent="no" equal_height_columns="no" menu_a
 nchor="" hide_on_mobile="small-visibility\,medium-visibility\,large-visibi
 lity" class="" id="" background_color="" background_image="" background_po
 sition="center center" background_repeat="no-repeat" fade="no" background_
 parallax="none" parallax_speed="0.3" video_mp4="" video_webm="" video_ogv=
 "" video_url="" video_aspect_ratio="16:9" video_loop="yes" video_mute="yes
 " overlay_color="" video_preview_image="" border_color="" border_style="so
 lid" padding_top="" padding_bottom="" padding_left="" padding_right=""][fu
 sion_builder_row][/fusion_builder_row][/fusion_builder_container]
LOCATION:Universitätsklinikum Dresden\, Fetscherstraße 74\, Dresden\, 013
 07\, Deutschland
X-APPLE-STRUCTURED-LOCATION;VALUE=URI;X-ADDRESS=Fetscherstraße 74\, Dresde
 n\, 01307\, Deutschland;X-APPLE-RADIUS=100;X-TITLE=Universitätsklinikum D
 resden:geo:0,0
END:VEVENT
END:VCALENDAR