BEGIN:VCALENDAR
VERSION:2.0
PRODID:-//wp-events-plugin.com//7.2.3.1//EN
BEGIN:VEVENT
UID:92@carus-management.de
DTSTART:20170329T140000Z
DTEND:20170329T153000Z
DTSTAMP:20180416T145550Z
URL:https://www.carus-management.de/veranstaltungen/derma-klinik-und-diagn
 ostik-von-pannikultiden/
SUMMARY:DERMA - Klinik und Diagnostik von Pannikultiden
DESCRIPTION:Einladung29.03.2017
END:VEVENT
END:VCALENDAR