BEGIN:VCALENDAR
VERSION:2.0
PRODID:-//wp-events-plugin.com//7.2.3.1//EN
BEGIN:VEVENT
UID:731@carus-management.de
DTSTART:20200627T070000Z
DTEND:20200627T110000Z
DTSTAMP:20200617T081429Z
URL:https://www.carus-management.de/veranstaltungen/derma-61-dresdner-derm
 atologisches-gespraech-virtuell/
SUMMARY:DERMA - 61. Dresdner Dermatologisches Gespräch - virtuell
DESCRIPTION:Flyer_DDG_27.06.20
END:VEVENT
END:VCALENDAR