BEGIN:VCALENDAR
VERSION:2.0
PRODID:-//wp-events-plugin.com//7.2.3.1//EN
BEGIN:VEVENT
UID:889@carus-management.de
DTSTART:20211127T080000Z
DTEND:20211127T140000Z
DTSTAMP:20211122T115435Z
URL:https://www.carus-management.de/veranstaltungen/derma-25-dresdner-aids
 -symposium/
SUMMARY:DERMA - 25. Dresdner AIDS-Symposium - ACHTUNG: findet digital statt
 - um Anmeldung wird gebeten
DESCRIPTION:aids-symposium-2021-flyer_aktuell\n\nWir bitten um Ihre Anmeldu
 ng zur Veranstaltung (s. Flyer).
END:VEVENT
END:VCALENDAR