BEGIN:VCALENDAR
VERSION:2.0
PRODID:-//wp-events-plugin.com//7.2.3.1//EN
BEGIN:VEVENT
UID:740@carus-management.de
DTSTART;VALUE=DATE:20201114
DTEND;VALUE=DATE:20201115
DTSTAMP:20201111T095736Z
URL:https://www.carus-management.de/veranstaltungen/derma-24-dresdner-aids
 -symposium/
SUMMARY:DERMA - 24. Dresdner AIDS-Symposium - digital
DESCRIPTION:Einladung 24. Dresdner AIDS-Symposium 14.11.2020\n\nAIDS-Sympos
 ium 14.11.20 - Offenlegung Sponsoren
LOCATION:virtuelle Veranstaltung\,  \,  \, Deutschland
X-APPLE-STRUCTURED-LOCATION;VALUE=URI;X-ADDRESS= \,  \, Deutschland;X-APPLE
 -RADIUS=100;X-TITLE=virtuelle Veranstaltung:geo:0,0
END:VEVENT
END:VCALENDAR