BEGIN:VCALENDAR
VERSION:2.0
PRODID:-//wp-events-plugin.com//7.2.3.1//EN
BEGIN:VEVENT
UID:1246@carus-management.de
DTSTART:20240921T090000Z
DTEND:20240921T131500Z
DTSTAMP:20240912T093936Z
URL:https://www.carus-management.de/veranstaltungen/demenzsymposium-anlaes
 slich-des-weltalzheimertages/
SUMMARY:Demenzsymposium anlässlich des Weltalzheimertages
DESCRIPTION:Offenl. Spons. - Demenzsymposium Dr. Haußmann &amp\; Dr. Dinte
 r 21.09.2024[fusion_builder_container type="flex" hundred_percent="no" equ
 al_height_columns="no" menu_anchor="" hide_on_mobile="small-visibility\,me
 dium-visibility\,large-visibility" class="" id="" background_color="" back
 ground_image="" background_position="center center" background_repeat="no-
 repeat" fade="no" background_parallax="none" parallax_speed="0.3" video_mp
 4="" video_webm="" video_ogv="" video_url="" video_aspect_ratio="16:9" vid
 eo_loop="yes" video_mute="yes" overlay_color="" video_preview_image="" bor
 der_color="" border_style="solid" padding_top="" padding_bottom="" padding
 _left="" padding_right=""][fusion_builder_row][fusion_builder_column type=
 "1_1" layout="1_1" background_position="left top" background_color="" bord
 er_color="" border_style="solid" border_position="all" spacing="yes" backg
 round_image="" background_repeat="no-repeat" padding_top="" padding_right=
 "" padding_bottom="" padding_left="" margin_top="0px" margin_bottom="0px" 
 class="" id="" animation_type="" animation_speed="0.3" animation_direction
 ="left" hide_on_mobile="small-visibility\,medium-visibility\,large-visibil
 ity" center_content="no" last="true" min_height="" hover_type="none" link=
 "" border_sizes_top="" border_sizes_bottom="" border_sizes_left="" border_
 sizes_right="" first="true"][fusion_text]\n\nFlyer_Demenztag_21.09.2024_fi
 nal[/fusion_text][/fusion_builder_column][/fusion_builder_row][/fusion_bui
 lder_container][fusion_builder_container type="flex" hundred_percent="no" 
 equal_height_columns="no" menu_anchor="" hide_on_mobile="small-visibility\
 ,medium-visibility\,large-visibility" class="" id="" background_color="" b
 ackground_image="" background_position="center center" background_repeat="
 no-repeat" fade="no" background_parallax="none" parallax_speed="0.3" video
 _mp4="" video_webm="" video_ogv="" video_url="" video_aspect_ratio="16:9" 
 video_loop="yes" video_mute="yes" overlay_color="" video_preview_image="" 
 border_color="" border_style="solid" padding_top="" padding_bottom="" padd
 ing_left="" padding_right=""][fusion_builder_row][fusion_builder_column ty
 pe="1_1" layout="1_1" background_position="left top" background_color="" b
 order_color="" border_style="solid" border_position="all" spacing="yes" ba
 ckground_image="" background_repeat="no-repeat" padding_top="" padding_rig
 ht="" padding_bottom="" padding_left="" margin_top="0px" margin_bottom="0p
 x" class="" id="" animation_type="" animation_speed="0.3" animation_direct
 ion="left" hide_on_mobile="small-visibility\,medium-visibility\,large-visi
 bility" center_content="no" last="true" min_height="" hover_type="none" li
 nk="" border_sizes_top="" border_sizes_bottom="" border_sizes_left="" bord
 er_sizes_right="" first="true"][/fusion_builder_column][/fusion_builder_ro
 w][/fusion_builder_container]
LOCATION:DZNE (Deutsches Zentrum für Neurodegenerative Erkrankungen e.V.)\
 , Tatzberg 41\, Dresden\, Sachsen\, 01307\, Deutschland
X-APPLE-STRUCTURED-LOCATION;VALUE=URI;X-ADDRESS=Tatzberg 41\, Dresden\, Sac
 hsen\, 01307\, Deutschland;X-APPLE-RADIUS=100;X-TITLE=DZNE (Deutsches Zent
 rum für Neurodegenerative Erkrankungen e.V.):geo:0,0
END:VEVENT
END:VCALENDAR