BEGIN:VCALENDAR
VERSION:2.0
PRODID:-//wp-events-plugin.com//7.2.3.1//EN
BEGIN:VEVENT
UID:611@carus-management.de
DTSTART;VALUE=DATE:20190829
DTEND;VALUE=DATE:20190830
DTSTAMP:20190529T094229Z
URL:https://www.carus-management.de/veranstaltungen/ca-symposium-ein-gener
 alistischer-tag-voller-anleitungen/
SUMMARY:CA - Symposium "Ein generalistischer Tag voller Anleitungen"
DESCRIPTION:Flyer - Symp. generalistischer Tag voller Anleitungen 29.08.19
LOCATION:Universitätsklinikum Dresden\, Fetscherstraße 74\, Dresden\, 013
 07\, Deutschland
X-APPLE-STRUCTURED-LOCATION;VALUE=URI;X-ADDRESS=Fetscherstraße 74\, Dresde
 n\, 01307\, Deutschland;X-APPLE-RADIUS=100;X-TITLE=Universitätsklinikum D
 resden:geo:0,0
END:VEVENT
END:VCALENDAR