BEGIN:VCALENDAR
VERSION:2.0
PRODID:-//wp-events-plugin.com//7.2.3.1//EN
BEGIN:VEVENT
UID:393@carus-management.de
DTSTART:20180817T070000Z
DTEND:20180817T140000Z
DTSTAMP:20180810T100047Z
URL:https://www.carus-management.de/veranstaltungen/ca-symposium-ein-abwec
 hslungsreicher-tag-voller-anleitungen/
SUMMARY:CA - Symposium "Ein abwechslungsreicher Tag voller Anleitungen"
DESCRIPTION:Flyer-Symposium_Anleitungen17.08.18
LOCATION:Universitätsklinikum Dresden\, Fetscherstraße 74\, Dresden\, 013
 07\, Deutschland
X-APPLE-STRUCTURED-LOCATION;VALUE=URI;X-ADDRESS=Fetscherstraße 74\, Dresde
 n\, 01307\, Deutschland;X-APPLE-RADIUS=100;X-TITLE=Universitätsklinikum D
 resden:geo:0,0
END:VEVENT
END:VCALENDAR