BEGIN:VCALENDAR
VERSION:2.0
PRODID:-//wp-events-plugin.com//7.2.3.1//EN
BEGIN:VEVENT
UID:283@carus-management.de
DTSTART:20160818T063000Z
DTEND:20160818T132000Z
DTSTAMP:20180419T132714Z
URL:https://www.carus-management.de/veranstaltungen/ca-symp-fachweiterbild
 ung-neurologie-vom-modell-zum-erfolg/
SUMMARY:CA - Symp. "Fachweiterbildung Neurologie - Vom Modell zum Erfolg"
DESCRIPTION:SymposiumNeurologie18.08.16
END:VEVENT
END:VCALENDAR