BEGIN:VCALENDAR
VERSION:2.0
PRODID:-//wp-events-plugin.com//7.2.3.1//EN
BEGIN:VEVENT
UID:954@carus-management.de
DTSTART;VALUE=DATE:20220507
DTEND;VALUE=DATE:20220508
DTSTAMP:20220328T140431Z
URL:https://www.carus-management.de/veranstaltungen/benefizkonzert-takte-g
 egen-krebs-konzertin-der-comoedie-dresden/
SUMMARY:NCT/UCC - Benefizkonzert "Takte-gegen-Krebs-Konzert“ in der Comö
 die Dresden
DESCRIPTION:Benefizkonzert_07.05.2022
END:VEVENT
END:VCALENDAR