BEGIN:VCALENDAR
VERSION:2.0
PRODID:-//wp-events-plugin.com//7.2.3.1//EN
BEGIN:VEVENT
UID:1132@carus-management.de
DTSTART:20241212T123000Z
DTEND:20241212T133000Z
DTSTAMP:20240808T075502Z
URL:https://www.carus-management.de/veranstaltungen/basiskurs-innere-mediz
 in-2024-nephritisches-und-nephrotisches-syndrom/
SUMMARY:Basiskurs Innere Medizin 2024: Nephritisches und nephrotisches Synd
 rom
DESCRIPTION:12.12.2024 Programm 
LOCATION:Universitätsklinikum Dresden\, Fetscherstraße 74\, Dresden\, 013
 07\, Deutschland
X-APPLE-STRUCTURED-LOCATION;VALUE=URI;X-ADDRESS=Fetscherstraße 74\, Dresde
 n\, 01307\, Deutschland;X-APPLE-RADIUS=100;X-TITLE=Universitätsklinikum D
 resden:geo:0,0
END:VEVENT
END:VCALENDAR