BEGIN:VCALENDAR
VERSION:2.0
PRODID:-//wp-events-plugin.com//7.2.3.1//EN
BEGIN:VEVENT
UID:1436@carus-management.de
DTSTART:20260402T123000Z
DTEND:20260402T133000Z
DTSTAMP:20260319T130401Z
URL:https://www.carus-management.de/veranstaltungen/basisfortbildungskurs-
 innere-medizin-kleinzelliges-bronchialkarzinom/
SUMMARY:Basisfortbildungskurs Innere Medizin: Kleinzelliges Bronchialkarzin
 om
DESCRIPTION:02.04.2026 Programm
LOCATION:Universitätsklinikum Dresden\, Fetscherstraße 74\, Dresden\, 013
 07\, Deutschland
X-APPLE-STRUCTURED-LOCATION;VALUE=URI;X-ADDRESS=Fetscherstraße 74\, Dresde
 n\, 01307\, Deutschland;X-APPLE-RADIUS=100;X-TITLE=Universitätsklinikum D
 resden:geo:0,0
END:VEVENT
END:VCALENDAR