BEGIN:VCALENDAR
VERSION:2.0
PRODID:-//wp-events-plugin.com//7.2.3.1//EN
BEGIN:VEVENT
UID:407@carus-management.de
DTSTART;VALUE=DATE:20180919
DTEND;VALUE=DATE:20180920
DTSTAMP:20180702T085817Z
URL:https://www.carus-management.de/veranstaltungen/apo-adka-fortbildung/
SUMMARY:APO - ADKA Fortbildung
DESCRIPTION:
END:VEVENT
END:VCALENDAR