BEGIN:VCALENDAR
VERSION:2.0
PRODID:-//wp-events-plugin.com//7.2.3.1//EN
BEGIN:VEVENT
UID:113@carus-management.de
DTSTART;VALUE=DATE:20170518
DTEND;VALUE=DATE:20170520
DTSTAMP:20180417T084551Z
URL:https://www.carus-management.de/veranstaltungen/ane-us-kurs-ultraschal
 l-in-der-anaesthesie/
SUMMARY:ANE - US-Kurs Ultraschall in der Anästhesie
DESCRIPTION:UltraschallinderAnsthesie_Dresden_2017-Stand01.11.16\n\nOffenle
 gungSponsoren-US-Kurs18.-19.05.17
END:VEVENT
END:VCALENDAR