BEGIN:VCALENDAR
VERSION:2.0
PRODID:-//wp-events-plugin.com//7.2.3.1//EN
BEGIN:VEVENT
UID:143@carus-management.de
DTSTART;VALUE=DATE:20170831
DTEND;VALUE=DATE:20170902
DTSTAMP:20180417T111057Z
URL:https://www.carus-management.de/veranstaltungen/ane-us-kurs-ultraschal
 l-in-der-anaesthesie-2/
SUMMARY:ANE - US-Kurs Ultraschall in der Anästhesie
DESCRIPTION:UltraschallinderAnsthesie_Dresden_2017-Stand01.11.16\n\nOffenle
 gungSponsoren-US-Kurs31.08.-01.09.17
END:VEVENT
END:VCALENDAR