BEGIN:VCALENDAR
VERSION:2.0
PRODID:-//wp-events-plugin.com//7.2.3.1//EN
BEGIN:VEVENT
UID:614@carus-management.de
DTSTART:20191114T063000Z
DTEND:20191115T150000Z
DTSTAMP:20191107T122417Z
URL:https://www.carus-management.de/veranstaltungen/ane-ultraschall-kurse-
 in-der-anaesthesie/
SUMMARY:ANE - Ultraschall-Kurs in der Anästhesie
DESCRIPTION:Programm + Off. US-Kurs in der Anästhesie 14.+15.11.19
LOCATION:Universitätsklinikum Dresden\, Fetscherstraße 74\, Dresden\, 013
 07\, Deutschland
X-APPLE-STRUCTURED-LOCATION;VALUE=URI;X-ADDRESS=Fetscherstraße 74\, Dresde
 n\, 01307\, Deutschland;X-APPLE-RADIUS=100;X-TITLE=Universitätsklinikum D
 resden:geo:0,0
END:VEVENT
END:VCALENDAR