BEGIN:VCALENDAR
VERSION:2.0
PRODID:-//wp-events-plugin.com//7.2.3.1//EN
BEGIN:VEVENT
UID:792@carus-management.de
DTSTART:20210615T180000Z
DTEND:20210615T203000Z
DTSTAMP:20210517T122822Z
URL:https://www.carus-management.de/veranstaltungen/ane-dresdner-anaesthes
 iegespraeche-digital/
SUMMARY:ANE - Dresdner Anästhesiegespräche - digital
DESCRIPTION:Programm__2021_Stand 14.05.21
END:VEVENT
END:VCALENDAR