BEGIN:VCALENDAR
VERSION:2.0
PRODID:-//wp-events-plugin.com//7.2.3.1//EN
BEGIN:VEVENT
UID:549@carus-management.de
DTSTART:20191008T160000Z
DTEND:20191008T183000Z
DTSTAMP:20191022T095155Z
URL:https://www.carus-management.de/veranstaltungen/ane-dresdner-anaesthes
 iegespraeche-9/
SUMMARY:ANE - Dresdner Anästhesiegespräche
DESCRIPTION:Programm Dresdener Anästhesiegespräche 2019 inkl. Offenlegung
 en
LOCATION:Dorint Hotel Dresden\, Grunaer Str. 14\, Dresden\, Sachsen\, 01069
 \, Deutschland
X-APPLE-STRUCTURED-LOCATION;VALUE=URI;X-ADDRESS=Grunaer Str. 14\, Dresden\,
  Sachsen\, 01069\, Deutschland;X-APPLE-RADIUS=100;X-TITLE=Dorint Hotel Dre
 sden:geo:0,0
END:VEVENT
END:VCALENDAR